BEGIN:VCALENDAR
VERSION:2.0
PRODID:-//Matrix - ECPv6.15.20//NONSGML v1.0//EN
CALSCALE:GREGORIAN
METHOD:PUBLISH
X-ORIGINAL-URL:https://matrixni.org
X-WR-CALDESC:Events for Matrix
REFRESH-INTERVAL;VALUE=DURATION:PT1H
X-Robots-Tag:noindex
X-PUBLISHED-TTL:PT1H
BEGIN:VTIMEZONE
TZID:Europe/London
BEGIN:DAYLIGHT
TZOFFSETFROM:+0000
TZOFFSETTO:+0100
TZNAME:BST
DTSTART:20200329T010000
END:DAYLIGHT
BEGIN:STANDARD
TZOFFSETFROM:+0100
TZOFFSETTO:+0000
TZNAME:GMT
DTSTART:20201025T010000
END:STANDARD
BEGIN:DAYLIGHT
TZOFFSETFROM:+0000
TZOFFSETTO:+0100
TZNAME:BST
DTSTART:20210328T010000
END:DAYLIGHT
BEGIN:STANDARD
TZOFFSETFROM:+0100
TZOFFSETTO:+0000
TZNAME:GMT
DTSTART:20211031T010000
END:STANDARD
BEGIN:DAYLIGHT
TZOFFSETFROM:+0000
TZOFFSETTO:+0100
TZNAME:BST
DTSTART:20220327T010000
END:DAYLIGHT
BEGIN:STANDARD
TZOFFSETFROM:+0100
TZOFFSETTO:+0000
TZNAME:GMT
DTSTART:20221030T010000
END:STANDARD
END:VTIMEZONE
BEGIN:VEVENT
DTSTART;TZID=Europe/London:20210921T100000
DTEND;TZID=Europe/London:20210921T123000
DTSTAMP:20260424T112335
CREATED:20210810T140702Z
LAST-MODIFIED:20210810T140702Z
UID:24676-1632218400-1632227400@matrixni.org
SUMMARY:Drone Pathfinder Catalyst programme community webinar
DESCRIPTION:Join us for the Drone Pathfinder Catalyst Programme Community Webinar on 21st September\n\n\nThe Government’s Pathfinder Catalyst Programme is part of a wider programme of work across the UK’s public and private sectors\, aimed at enabling integration of drones into UK airspace. \nThe programme aims to rapidly drive progress in drone technology and regulation over the next ten years\, enabling industry and the public sector to fully exploit the market in areas such as geo-mapping\, infrastructure inspections\, surveying and logistics to both commercial and public-sector industries. \nThese community events provide an opportunity for the UAV community to share experiences and form connections. They include updates and discussions from across the community\, as well as from the Pathfinder Steering Group  \nMore information is available from the Pathfinder website. \nTo find out more about Connected Places Catapult events please visit our website.
URL:https://matrixni.org/event/drone-pathfinder-catalyst-programme-community-webinar/
LOCATION:Northern Ireland
CATEGORIES:Innovation
ATTACH;FMTTYPE=image/jpeg:https://matrixni.org/wp-content/uploads/2021/08/4c5d25c181b33579485107745c55f2a6.jpg
END:VEVENT
BEGIN:VEVENT
DTSTART;TZID=Europe/London:20210921T110000
DTEND;TZID=Europe/London:20210921T123000
DTSTAMP:20260424T112335
CREATED:20210810T140231Z
LAST-MODIFIED:20210810T140231Z
UID:24661-1632222000-1632227400@matrixni.org
SUMMARY:The Net Zero series - Sustainable Supply Chains
DESCRIPTION:The net zero series sheds light on the work already undertaken by UKRI’s flagship programme -the Industrial Strategy Challenge Fund.\n\n\nWe live in a time of unprecedented change. The way we live our lives and do business is impacting the planet and driving environmental change on a scale unique in the Earth’s history. We are consuming our natural resources at unprecedented levels whilst polluting our environment\, affecting our air\, soils\, water and biodiversity. This is increasing the challenges linked to extreme weather and a changing climate which can have devastating impacts on the environment and human life and hinder economic growth. To meet these challenges\, and recognising our leadership potential\, in 2019 the UK became the first major economy to commit to reducing greenhouse gas emissions to net zero by 2050.  \nThe net zero series sheds light on the work already undertaken by UKRI’s flagship programme -the Industrial Strategy Challenge Fund to address the key challenges that will help the UK build back greener. It will bring together world-renowned researchers and innovators across the breadth of our funding disciplines to discuss the need for innovative solutions to heat our homes\, travel to work\, develop and transform our industries\, cater to our diet\, enjoy our leisure time\, and prosper from a cleaner\, healthier environment in parallel with growing our economy. \nWe will run a monthly webinar from April to November featuring ISCF challenges\, UKRI councils and project leads\, as well as renowned external experts from academia\, industry and technology fields.  \nIn September we will be discussing Sustainable Supply Chains : To help reach net zero we need to look at our supply chains and explore ways to make them more efficient. By adopting digital technologies for faster and improved efficiency\, the increased sustainability of UK manufacturing will result in reduced waste\, reuse of resources and reduction of carbon emissions.  \nChair: Amy Peace – Innovation Lead for Circular Economy -Manufacturing and Materials   \nSpeakers:  \n\nJudith Batchelor – Director at Sainsbury’s \nKim Lloyd – Director at SupplyVue \nProfessor Neil Burgess – Trade Hub Project Lead \nMark Urbanowski – Innovation Lead for Driving the Electric Revolution \nGeoff Brighty – ReNew ELP (TBC – but ReNew has agreed to take part)\n\n\n\nAll topic and dates:  \n\n\n21 September – Sustainable Supply Chains\n19 October – Sustainable Materials\n16 November – Sustainable Energy\n\n\n\nView  recordings of previous topics  on YouTube:  \n\nSustainable Food \nSustainable Transport\nSustainable Buildings\nSustainable Industry\n\n\n\n\nAmy Peace – Innovation Lead for Circular Economy -Manufacturing and Materials \nAmy Peace is the Innovation Lead for Circular Economy at Innovate UK. With a background in Chemical Engineering\, she has coordinated sustainability projects and programmes in industry (ICI\, INEOS\, Britest)\, industrial clusters (Chemicals Northwest) and pan-EU cross-sector initiatives (Horizon2020 SPIRE). Amy’s current work portfolio includes UKRI investments in interdisciplinary circular economy centres and the development of future programmes to aid the transition of manufacturing and materials sectors to get to Net Zero\, highlighting the importance of embedded carbon in supply chains. \n\n\n\nJudith Batchelar OBE – Special Advisor on Corporate Responsibility\, Sustainability and Public Affairs \nJudith joined Sainsbury’s seventeen years ago but started her life in manufacturing before moving into retail at Marks and Spencer.  She is a Biochemist\, nutritionist\, has an Honorary Doctorate in Agriculture from Harper Adams University\, and is a Fellow of the IFST\, and the RSA.  From 2013 to 2018 she was Chair of the Governments’ AgriTech Council\, and now sits on both the Food and Drink Sector\, and Natural Environment Research Councils.  In addition to her work at Sainsbury’s Judith is a Non-Executive Director of both the Environment Agency and the Rugby Players Association and is a Trustee of The Royal Botanic Gardens Kew and Accounting for Sustainability.   \nShe was awarded an OBE in 2015 for services to Farming and the Food Industry\, and is a Commissioner on the Food\, Farming and Countryside Commission. \n\n\n\nKim Lloyd – Director at SupplyVue
URL:https://matrixni.org/event/the-net-zero-series-sustainable-supply-chains/
LOCATION:Northern Ireland
CATEGORIES:Circular Green
ATTACH;FMTTYPE=image/jpeg:https://matrixni.org/wp-content/uploads/2021/08/6f159dbc68851a13bce4560904702214.jpg
END:VEVENT
END:VCALENDAR