BEGIN:VCALENDAR
VERSION:2.0
PRODID:-//Matrix - ECPv6.15.20//NONSGML v1.0//EN
CALSCALE:GREGORIAN
METHOD:PUBLISH
X-ORIGINAL-URL:https://matrixni.org
X-WR-CALDESC:Events for Matrix
REFRESH-INTERVAL;VALUE=DURATION:PT1H
X-Robots-Tag:noindex
X-PUBLISHED-TTL:PT1H
BEGIN:VTIMEZONE
TZID:Europe/London
BEGIN:DAYLIGHT
TZOFFSETFROM:+0000
TZOFFSETTO:+0100
TZNAME:BST
DTSTART:20200329T010000
END:DAYLIGHT
BEGIN:STANDARD
TZOFFSETFROM:+0100
TZOFFSETTO:+0000
TZNAME:GMT
DTSTART:20201025T010000
END:STANDARD
BEGIN:DAYLIGHT
TZOFFSETFROM:+0000
TZOFFSETTO:+0100
TZNAME:BST
DTSTART:20210328T010000
END:DAYLIGHT
BEGIN:STANDARD
TZOFFSETFROM:+0100
TZOFFSETTO:+0000
TZNAME:GMT
DTSTART:20211031T010000
END:STANDARD
BEGIN:DAYLIGHT
TZOFFSETFROM:+0000
TZOFFSETTO:+0100
TZNAME:BST
DTSTART:20220327T010000
END:DAYLIGHT
BEGIN:STANDARD
TZOFFSETFROM:+0100
TZOFFSETTO:+0000
TZNAME:GMT
DTSTART:20221030T010000
END:STANDARD
END:VTIMEZONE
BEGIN:VEVENT
DTSTART;TZID=Europe/London:20210920T114500
DTEND;TZID=Europe/London:20210920T123000
DTSTAMP:20260424T111829
CREATED:20210916T143519Z
LAST-MODIFIED:20210916T143519Z
UID:24865-1632138300-1632141000@matrixni.org
SUMMARY:Digital Future - the most important tech trends leaders need to know now
DESCRIPTION:Hear business thought leaders reflecting on key themes emerging from the newly launched Digital Future 2021 report and global tech index.\n\n\n\nHow has pandemic accelerated adoption of advanced digital technologies and what does it mean to businesses around the globe?\n\n\nWho is leading the global race to become the country with fastest technology adoption and innovation rate and shaping its digital future? \n\n\nWhat are the emerging technological trends with real potential to transform businesses across the sectors?\n\nHear business thought leaders reflecting on key themes emerging from the newly launched Digital Future 2021 report and global technology index. \nThe report created by Digital Catapult\, UK’s authority on advanced digital technology\, highlights where the UK ranks across Artificial Intelligence\, Virtual & Augmented Reality\, the Internet of Things\, 5G and Blockchain and explores how these technologies are converging to blur the lines between the digital and physical worlds\, creating new capabilities and unlocking the potential for significant business and economic value as the world comes out of the pandemic. \nJoin the webinar\, with contributions from Dr Jeremy Silver\, CEO\, Digital Catapult\,  Philip Young\, Director for Policy\, Research & Strategic Engagement\, Digital Catapult and Naomi Weir\, Head of Innovation at Confederation of British Industry (CBI)  to hear the discussion on  the latest insights\, trends and important themes affecting the UK’s technology community and the wider economy.
URL:https://matrixni.org/event/digital-future-the-most-important-tech-trends-leaders-need-to-know-now/
LOCATION:Northern Ireland
ATTACH;FMTTYPE=image/jpeg:https://matrixni.org/wp-content/uploads/2021/09/72716f8b0f901516117c6044720fe6ce.jpg
END:VEVENT
END:VCALENDAR