BEGIN:VCALENDAR
VERSION:2.0
PRODID:-//Matrix - ECPv6.15.20//NONSGML v1.0//EN
CALSCALE:GREGORIAN
METHOD:PUBLISH
X-ORIGINAL-URL:https://matrixni.org
X-WR-CALDESC:Events for Matrix
REFRESH-INTERVAL;VALUE=DURATION:PT1H
X-Robots-Tag:noindex
X-PUBLISHED-TTL:PT1H
BEGIN:VTIMEZONE
TZID:Europe/London
BEGIN:DAYLIGHT
TZOFFSETFROM:+0000
TZOFFSETTO:+0100
TZNAME:BST
DTSTART:20200329T010000
END:DAYLIGHT
BEGIN:STANDARD
TZOFFSETFROM:+0100
TZOFFSETTO:+0000
TZNAME:GMT
DTSTART:20201025T010000
END:STANDARD
BEGIN:DAYLIGHT
TZOFFSETFROM:+0000
TZOFFSETTO:+0100
TZNAME:BST
DTSTART:20210328T010000
END:DAYLIGHT
BEGIN:STANDARD
TZOFFSETFROM:+0100
TZOFFSETTO:+0000
TZNAME:GMT
DTSTART:20211031T010000
END:STANDARD
BEGIN:DAYLIGHT
TZOFFSETFROM:+0000
TZOFFSETTO:+0100
TZNAME:BST
DTSTART:20220327T010000
END:DAYLIGHT
BEGIN:STANDARD
TZOFFSETFROM:+0100
TZOFFSETTO:+0000
TZNAME:GMT
DTSTART:20221030T010000
END:STANDARD
END:VTIMEZONE
BEGIN:VEVENT
DTSTART;TZID=Europe/London:20210913T120000
DTEND;TZID=Europe/London:20210913T130000
DTSTAMP:20260424T112236
CREATED:20210819T115435Z
LAST-MODIFIED:20210819T115717Z
UID:24735-1631534400-1631538000@matrixni.org
SUMMARY:AI Skunkworks Webinar - Building Proofs of Concepts.
DESCRIPTION:Join us to learn how we have been using AI to identify patients at risk of long term hospital stays and how you can apply to work with us.\n\n\nOver the last 12 weeks The NHSx Skunkworks partnered with Gloucestershire Hospitals NHS Foundation Trust and Accelerated Capability Environment (ACE) partners\, Polygeist to explore the question can machine learning help us to identify patients who are at risk of long term stay? Long term stay is when a patient stays in hospital for more than 21 days. \nThe AI Lab Skunkworks works on Demonstrating the potential of AI through proofs-of-concepts and upskilling the workforce through a knowledge-sharing model. We help healthcare organisations apply AI to their problems through rapid\, agile\, iterative projects. By running an open call\, we help develop proofs of concepts through a 12 week process usually helped by a supplier. We’re excited to present the results of our last project. \nIn this show and tell you will learn all about: \n\nHow we investigated the benefits of AI applied to hospital admissions data\nWhat we did and how we collaborated on this project\nWhat AI approach we took and why\nWhat we created and the benefits of creating a proof of concept\nWhat the benefits are in the short\, medium and long term\nThe impact of creating this proof of concept\nHow you can solve a similar problem using our open approach\nHow you can apply to work with us on a problem you’ve seen.
URL:https://matrixni.org/event/ai-skunkworks-webinar-building-proofs-of-concepts/
LOCATION:Online
CATEGORIES:Artificial Intelligence,Health,Innovation,R&D
ATTACH;FMTTYPE=image/jpeg:https://matrixni.org/wp-content/uploads/2021/08/0d0f049b2dd339e40afd90fd12c306f5.jpg
END:VEVENT
END:VCALENDAR