BEGIN:VCALENDAR
VERSION:2.0
PRODID:-//Matrix - ECPv6.15.20//NONSGML v1.0//EN
CALSCALE:GREGORIAN
METHOD:PUBLISH
X-ORIGINAL-URL:https://matrixni.org
X-WR-CALDESC:Events for Matrix
REFRESH-INTERVAL;VALUE=DURATION:PT1H
X-Robots-Tag:noindex
X-PUBLISHED-TTL:PT1H
BEGIN:VTIMEZONE
TZID:Europe/London
BEGIN:DAYLIGHT
TZOFFSETFROM:+0000
TZOFFSETTO:+0100
TZNAME:BST
DTSTART:20200329T010000
END:DAYLIGHT
BEGIN:STANDARD
TZOFFSETFROM:+0100
TZOFFSETTO:+0000
TZNAME:GMT
DTSTART:20201025T010000
END:STANDARD
BEGIN:DAYLIGHT
TZOFFSETFROM:+0000
TZOFFSETTO:+0100
TZNAME:BST
DTSTART:20210328T010000
END:DAYLIGHT
BEGIN:STANDARD
TZOFFSETFROM:+0100
TZOFFSETTO:+0000
TZNAME:GMT
DTSTART:20211031T010000
END:STANDARD
BEGIN:DAYLIGHT
TZOFFSETFROM:+0000
TZOFFSETTO:+0100
TZNAME:BST
DTSTART:20220327T010000
END:DAYLIGHT
BEGIN:STANDARD
TZOFFSETFROM:+0100
TZOFFSETTO:+0000
TZNAME:GMT
DTSTART:20221030T010000
END:STANDARD
END:VTIMEZONE
BEGIN:VEVENT
DTSTART;TZID=Europe/London:20210910T110000
DTEND;TZID=Europe/London:20210910T120000
DTSTAMP:20260424T111822
CREATED:20210810T140028Z
LAST-MODIFIED:20210810T140028Z
UID:24651-1631271600-1631275200@matrixni.org
SUMMARY:UKA Live: The hybrid future of work
DESCRIPTION:With the return to offices now in progress\, what does the future work hold?\n\n\nPlease note that this webcaste was originally scheduled for  broadcast on16 July – if you have already registered you will automatically be registered for the new date. \nHow do we manage this next cultural change in our way of working and public service delivery as restrictions lift?\nThe switch to home working necessitated by lockdown proved remarkably successful for the public sector\, effectively realising the long sought vision of mobile and flexible working overnight. But with the return to offices now in progress\, what does the future hold? \nIn this live webcast we will explore how digital leaders can ensure the technology meets the needs of our workforce\, citizens and patients: \n\nHow  do we make the virtual experience better for people\, regardless of location?\nAre our systems robust and secure from wherever we need to work?\nCan they interoperate seamlessly across whatever platforms are being used?\nCan we use technology to improve accessibility and champion inclusivity?\nAnd\, how do we focus on individual wellbeing whilst enabling teams to work to their best potential? ….\n\nJoin the conversation! \nPublic sector delegates ordering before 1st September will receive a ‘healthy eating’ refreshment pack from our programme partner\, Webex by Cisco\, to enjoy during the webcast – please add your delivery details where indicated on the registration form!  \nWho should attend this one hour UKAuthority Live Webcast? \nThis one hour live webcast is free to attend for the public sector \nAll those involved in enabling the future of hybrid work for their organisation\, including\, but not limited to: Local Authority / NHS / Police / Fire / Housing Chief Information Officers\, Chief Digital Officers\, HR\, Heads of IT\, Heads of and Leads for Finance and line of business departments\, Members\, Heads / Leaders in Digital and Data\, Heads of Customer Services\, Transformation or Change \nRegistration\nThis event is designed specifically for the UK public sector – please register using your public sector email. Please note that registrations from personal email addresses may be rejected. \nUKAuthority has full editorial control of this event thanks to support from our programme partner. By registering for this event you agree to the sharing of your name\, organisation\, job title and work email address with the UKAuthority editorial team and partner organisation hosting this event. If you do not wish this information to be shared\, please let us know direct by emailing: sian@ukauthority.co.uk
URL:https://matrixni.org/event/uka-live-the-hybrid-future-of-work/
LOCATION:Northern Ireland
ATTACH;FMTTYPE=image/jpeg:https://matrixni.org/wp-content/uploads/2021/08/efc7b4bf5d67bdf0e44b26dc6404c20b.jpg
END:VEVENT
END:VCALENDAR