BEGIN:VCALENDAR
VERSION:2.0
PRODID:-//Matrix - ECPv6.15.20//NONSGML v1.0//EN
CALSCALE:GREGORIAN
METHOD:PUBLISH
X-ORIGINAL-URL:https://matrixni.org
X-WR-CALDESC:Events for Matrix
REFRESH-INTERVAL;VALUE=DURATION:PT1H
X-Robots-Tag:noindex
X-PUBLISHED-TTL:PT1H
BEGIN:VTIMEZONE
TZID:Europe/London
BEGIN:DAYLIGHT
TZOFFSETFROM:+0000
TZOFFSETTO:+0100
TZNAME:BST
DTSTART:20200329T010000
END:DAYLIGHT
BEGIN:STANDARD
TZOFFSETFROM:+0100
TZOFFSETTO:+0000
TZNAME:GMT
DTSTART:20201025T010000
END:STANDARD
BEGIN:DAYLIGHT
TZOFFSETFROM:+0000
TZOFFSETTO:+0100
TZNAME:BST
DTSTART:20210328T010000
END:DAYLIGHT
BEGIN:STANDARD
TZOFFSETFROM:+0100
TZOFFSETTO:+0000
TZNAME:GMT
DTSTART:20211031T010000
END:STANDARD
BEGIN:DAYLIGHT
TZOFFSETFROM:+0000
TZOFFSETTO:+0100
TZNAME:BST
DTSTART:20220327T010000
END:DAYLIGHT
BEGIN:STANDARD
TZOFFSETFROM:+0100
TZOFFSETTO:+0000
TZNAME:GMT
DTSTART:20221030T010000
END:STANDARD
END:VTIMEZONE
BEGIN:VEVENT
DTSTART;TZID=Europe/London:20210909T110000
DTEND;TZID=Europe/London:20210909T123000
DTSTAMP:20260424T111834
CREATED:20210715T134805Z
LAST-MODIFIED:20210810T140654Z
UID:24512-1631185200-1631190600@matrixni.org
SUMMARY:Future of Air Mobility accelerator webinar
DESCRIPTION:On the 9th September\, Connected Places Catapult will be hosting a webinar\, showcasing our upcoming Future of Air Mobility accelerator.\n\n\nExtensive conversations with industry and internal market research have led us to the conclusion that through the collaboration of industry\, academic\, government and regulatory partners\, our programme can convene innovation across a variety of key and immediate industry challenges. \nThe vision for the programme is a consortium approach whereby partners of the programme can innovate and trial new technologies collaboratively with SMEs. Through the collected efforts of Connected Places Catapult and industry stakeholders\, we will provide the needed delivery support and access to governing and regulatory bodies within air mobility.  \nSubsequently\, Connected Places Catapult are looking for a variety of partners who can provide access to testing facilities and data feeds to enable the SMEs to test and trial their technologies. Through access to government and regulatory bodies\, we will equally ensure the roadmap to securing lasting partnerships through aligning the accelerator with the long-term vision of government regulations and strategy. \nOur webinar will cover the analysis we have collated through internal market research\, our accelerator process\, talks from our current collaborators on the value derived through the accelerator and finally the consortium opportunities available to partners.  \nAbout Future of Air Mobility (FOAM) \nFuture of Air Mobility (FOAM) is a new\, challenge-led 6 month accelerator programme powered by Connected Places Catapult. Working with industry partners to identify pain points and key strategic objectives\, CPC will source and select 12 SMEs with highly innovative solutions at TRL 6+ operating across a number of sectors. Each SME will receive a bespoke programme roadmap tailored to their requirements\, including investment readiness\, technology and product development support\, along with introductions to aviation stakeholders and potential customers. These activities will be co-designed with SMEs in order to grow their businesses and adapt propositions to programme partner requirements\, with the aim of reducing time to market for disruptive technologies by facilitating trials and commercial opportunities. \nThrough a focus on new and emerging challenges within the aviation ecosystem\, FOAM will work alongside a consortium of partners across industry\, government\, academia and regulation\, to ensure that the programme tackles significant sector challenges and de-risks innovation in the marketplace.
URL:https://matrixni.org/event/future-of-air-mobility-accelerator-webinar/
LOCATION:Online
CATEGORIES:Innovation
ATTACH;FMTTYPE=image/jpeg:https://matrixni.org/wp-content/uploads/2021/08/c6bb062fa477034fe38a432ed299bf8c.jpg
END:VEVENT
BEGIN:VEVENT
DTSTART;TZID=Europe/London:20210909T140000
DTEND;TZID=Europe/London:20210909T150000
DTSTAMP:20260424T111834
CREATED:20210810T140843Z
LAST-MODIFIED:20210810T140843Z
UID:24688-1631196000-1631199600@matrixni.org
SUMMARY:Fintech Pledge Partnership Masterclass
DESCRIPTION:.\n\n\nJoin Tech Nation’s Fintech Delivery Panel Masterclass for fintech start-ups and scale-ups on pitch practice and top tips for working with financial institutions. \nThis event will be an interactive roundtable on Zoom\, allowing participants to hear from signatory institutions of the Fintech Pledge and ask their questions and advice for building productive partnerships. \nSpeakers will include an innovation or procurement expert from Fintech Pledge signatory institutions – Barclay’s & Natwest. \nZoom link to follow \nWe look forward to seeing you at the event\, if you have any questions prior to the session please get in touch with the Tech Nation events team. \n– events@technation.io
URL:https://matrixni.org/event/fintech-pledge-partnership-masterclass/
LOCATION:Northern Ireland
CATEGORIES:Cybersecurity
ATTACH;FMTTYPE=image/jpeg:https://matrixni.org/wp-content/uploads/2021/08/afa13df9f7967f817be126cd482ad226.jpg
END:VEVENT
END:VCALENDAR