BEGIN:VCALENDAR
VERSION:2.0
PRODID:-//Matrix - ECPv6.15.20//NONSGML v1.0//EN
CALSCALE:GREGORIAN
METHOD:PUBLISH
X-WR-CALNAME:Matrix
X-ORIGINAL-URL:https://matrixni.org
X-WR-CALDESC:Events for Matrix
REFRESH-INTERVAL;VALUE=DURATION:PT1H
X-Robots-Tag:noindex
X-PUBLISHED-TTL:PT1H
BEGIN:VTIMEZONE
TZID:Europe/London
BEGIN:DAYLIGHT
TZOFFSETFROM:+0000
TZOFFSETTO:+0100
TZNAME:BST
DTSTART:20200329T010000
END:DAYLIGHT
BEGIN:STANDARD
TZOFFSETFROM:+0100
TZOFFSETTO:+0000
TZNAME:GMT
DTSTART:20201025T010000
END:STANDARD
BEGIN:DAYLIGHT
TZOFFSETFROM:+0000
TZOFFSETTO:+0100
TZNAME:BST
DTSTART:20210328T010000
END:DAYLIGHT
BEGIN:STANDARD
TZOFFSETFROM:+0100
TZOFFSETTO:+0000
TZNAME:GMT
DTSTART:20211031T010000
END:STANDARD
BEGIN:DAYLIGHT
TZOFFSETFROM:+0000
TZOFFSETTO:+0100
TZNAME:BST
DTSTART:20220327T010000
END:DAYLIGHT
BEGIN:STANDARD
TZOFFSETFROM:+0100
TZOFFSETTO:+0000
TZNAME:GMT
DTSTART:20221030T010000
END:STANDARD
END:VTIMEZONE
BEGIN:VEVENT
DTSTART;TZID=Europe/London:20210812T140000
DTEND;TZID=Europe/London:20210812T153000
DTSTAMP:20260424T125325
CREATED:20210805T123132Z
LAST-MODIFIED:20210805T123638Z
UID:24630-1628776800-1628782200@matrixni.org
SUMMARY:SBRI - AFBI PROJECT INFORMATION EVENT
DESCRIPTION:SBRI – Competition open to companies able to develop innovative solutions for soil sampling\n\n\nSoil health underpins Northern Ireland’s drive for a productive and sustainable agri-food industry and there is a growing need for the agri-community (including Govt and research establishments) to obtain immediate results and recommendations from soil sampling. \nAFBI has SBRI Innovate UK funding available to work with innovative companies to develop solutions to improve soil sampling and monitoring. \nThe Agri-Food and Biosciences Institute (AFBI) is a multi-disciplinary organisation in Northern Ireland with more than 650 staff involved in high technology research and development\, diagnostic and analytical testing for the Department of Agriculture\, Environment and Rural Affairs and other Government departments\, public bodies and commercial companies. Its 3 main areas of work are: \n• Natural and marine environment \n• Animal\, plant and human health and welfare \n• Sustainable livestock production
URL:https://matrixni.org/event/sbri-afbi-project-information-event/
LOCATION:Northern Ireland
CATEGORIES:Agrifood,Circular Green,Innovation,R&D
ATTACH;FMTTYPE=image/jpeg:https://matrixni.org/wp-content/uploads/2019/08/24-2.jpg
END:VEVENT
END:VCALENDAR